Workbook

Sheet Janeiro
D7: Valor
B8: Receitas | C8: Salário | F8: Investimento
C9: Horas extras | F9: =IF(OR(D16-E70<0,D16-E70<=D16*0.2),D16-E70,IF(OR(D16-E70<0,D16-E70>=D16*0.2),D16*0.2,0)) -> 0
C10: 13º salário
C11: Bonificação | F11: Caixa restante
C12: Férias | F12: =IF(D16-F9-E70<0,D16-E70,D16-F9-E70) -> 0
C13: Aluguel
C14: Proventos | F14: Percentual | H14: Investimento +
C15: Outros | F15: =IFERROR(F12/D16,"")
C16: Total | D16: =SUM(D8:D15) -> 0
B24: Categoria Macro | C24: Categoria Micro | D24: Valor de Gasto | E24: Subtotais | F24: Comentários | H24: Categoria Micro | I24: Soma de Valor de Gasto | J24: Percentual de Valor Gasto
B25: Moradia | C25: Aluguel | E25: =SUM(D25:D44) -> 0 | H25: Academia | J25: 0
C26: Condomínio | H26: Aluguel | J26: 0
C27: IPTU | H27: Animal de estimação | J27: 0
C28: Conta de água | H28: Babá | J28: 0
C29: Conta de luz | H29: Bar | J29: 0
C30: Gás | H30: Bebida | J30: 0
C31: Supermercado | H31: Calçado | J31: 0
C32: Comida | H32: Carro (Manutenção) | J32: 0
C33: Bebida | H33: Celular | J33: 0
C34: Internet | H34: Cinema | J34: 0
C35: Telefone | H35: Combustível | J35: 0
C36: Celular | H36: Comida | J36: 0
C37: Streaming | H37: Condomínio | J37: 0
... C44: Cosméticos | H44: Doméstica/Diarista | J44: 0
B45: Educação | C45: Livro | E45: =SUM(D45:D48) -> 0 | H45: Escola | J45: 0
C46: Curso | H46: Estacionamento | J46: 0
C47: Escola | H47: Faculdade | J47: 0
C48: Faculdade | H48: Festa/evento | J48: 0
B49: Lazer | C49: Restaurante | E49: =SUM(D49:D53) -> 0 | H49: Financiamento | J49: 0
C50: Bar | H50: Gás | I50: 100 | J50: 1
C51: Festa/evento | H51: Internet | J51: 0
C52: Cinema | H52: IPTU | J52: 0
C53: Viagem | H53: IPVA | J53: 0
B54: Saúde e bem-estar | C54: Convênio | E54: =SUM(D54:D56) -> 0 | H54: Livro | J54: 0
C55: Seguros | H55: Outros | J55: 0
C56: Academia | H56: Presente | J56: 0
B57: Transporte | C57: Carro (Manutenção) | E57: =SUM(D57:D62) -> 0 | H57: Previdência | J57: 0
C58: Combustível | H58: Reforma | J58: 0
C59: Estacionamento | H59: Remédios | J59: 0
...

Sheet Lista de Gastos
B2: Categoria Macro | C2: Categoria Micro
B3: Moradia | C3: Aluguel
C4: Condomínio
C5: IPTU
C6: Conta de água
C7: Conta de luz
C8: Gás
C9: Supermercado
C10: Comida
C11: Bebida
C12: Internet
C13: Telefone
C14: Celular
C15: Streaming
... C22: Cosméticos
B23: Educação | C23: Livro
C24: Curso
C25: Escola
C26: Faculdade
B27: Lazer | C27: Restaurante
C28: Bar
C29: Festa/evento
C30: Cinema
C31: Viagem
B32: Saúde e bem-estar | C32: Convênio
C33: Seguros
C34: Academia
B35: Transporte | C35: Carro (Manutenção)
C36: Combustível
C37: Estacionamento
C38: Táxi/Uber
C39: Transporte Público
C40: IPVA
B41: Outros | C41: Reforma
C42: Presente
C43: Doações
C44: Saque
C45: Previdência
C46: Financiamento
C47: Outros

Sheet Fevereiro
D7: Valor
B8: Receitas | C8: Salário | F8: Investimento
C9: Horas extras | F9: =IF(OR(D16-E70<0,D16-E70<=D16*0.2),D16-E70,IF(OR(D16-E70<0,D16-E70>=D16*0.2),D16*0.2,0)) -> 0
C10: 13º salário
C11: Bonificação | F11: Caixa restante
C12: Férias | F12: =IF(D16-F9-E70<0,D16-E70,D16-F9-E70) -> 0
C13: Aluguel
C14: Proventos | F14: Percentual | H14: Investimento +
C15: Outros | F15: =IFERROR(F12/D16,"")
C16: Total | D16: =SUM(D8:D15) -> 0
B24: Categoria Macro | C24: Categoria Micro | D24: Valor de Gasto | E24: Subtotais | F24: Comentários | H24: Categoria Micro | I24: Soma de Valor de Gasto | J24: Percentual de Valor Gasto
B25: Moradia | C25: Aluguel | E25: =SUM(D25:D44) -> 0 | H25: Academia | J25: 0
C26: Condomínio | H26: Aluguel | J26: 0
C27: IPTU | H27: Animal de estimação | J27: 0
C28: Conta de água | H28: Babá | J28: 0
C29: Conta de luz | H29: Bar | J29: 0
C30: Gás | H30: Bebida | J30: 0
C31: Supermercado | H31: Calçado | J31: 0
C32: Comida | H32: Carro (Manutenção) | J32: 0
C33: Bebida | H33: Celular | J33: 0
C34: Internet | H34: Cinema | J34: 0
C35: Telefone | H35: Combustível | J35: 0
C36: Celular | H36: Comida | J36: 0
C37: Streaming | H37: Condomínio | J37: 0
... C44: Cosméticos | H44: Doméstica/Diarista | J44: 0
B45: Educação | C45: Livro | E45: =SUM(D45:D48) -> 0 | H45: Escola | J45: 0
C46: Curso | H46: Estacionamento | J46: 0
C47: Escola | H47: Faculdade | J47: 0
C48: Faculdade | H48: Festa/evento | J48: 0
B49: Lazer | C49: Restaurante | E49: =SUM(D49:D53) -> 0 | H49: Financiamento | J49: 0
C50: Bar | H50: Gás | J50: 0
C51: Festa/evento | H51: Internet | J51: 0
C52: Cinema | H52: IPTU | J52: 0
C53: Viagem | H53: IPVA | J53: 0
B54: Saúde e bem-estar | C54: Convênio | E54: =SUM(D54:D56) -> 0 | H54: Livro | J54: 0
C55: Seguros | H55: Outros | J55: 0
C56: Academia | H56: Presente | J56: 0
B57: Transporte | C57: Carro (Manutenção) | E57: =SUM(D57:D62) -> 0 | H57: Previdência | J57: 0
C58: Combustível | H58: Reforma | J58: 0
C59: Estacionamento | H59: Remédios | J59: 0
...

Sheet Março
D7: Valor
B8: Receitas | C8: Salário | F8: Investimento
C9: Horas extras | F9: =IF(OR(D16-E70<0,D16-E70<=D16*0.2),D16-E70,IF(OR(D16-E70<0,D16-E70>=D16*0.2),D16*0.2,0)) -> 0
C10: 13º salário
C11: Bonificação | F11: Caixa restante
C12: Férias | F12: =IF(D16-F9-E70<0,D16-E70,D16-F9-E70) -> 0
C13: Aluguel
C14: Proventos | F14: Percentual | H14: Investimento +
C15: Outros | F15: =IFERROR(F12/D16,"")
C16: Total | D16: =SUM(D8:D15) -> 0
B24: Categoria Macro | C24: Categoria Micro | D24: Valor de Gasto | E24: Subtotais | F24: Comentários | H24: Categoria Micro | I24: Soma de Valor de Gasto | J24: Percentual de Valor Gasto
B25: Moradia | C25: Aluguel | E25: =SUM(D25:D44) -> 0 | H25: Academia | J25: #DIV/0!
C26: Condomínio | H26: Aluguel | J26: #DIV/0!
C27: IPTU | H27: Animal de estimação | J27: #DIV/0!
C28: Conta de água | H28: Babá | J28: #DIV/0!
C29: Conta de luz | H29: Bar | J29: #DIV/0!
C30: Gás | H30: Bebida | J30: #DIV/0!
C31: Supermercado | H31: Calçado | J31: #DIV/0!
C32: Comida | H32: Carro (Manutenção) | J32: #DIV/0!
C33: Bebida | H33: Celular | J33: #DIV/0!
C34: Internet | H34: Cinema | J34: #DIV/0!
C35: Telefone | H35: Combustível | J35: #DIV/0!
C36: Celular | H36: Comida | J36: #DIV/0!
C37: Streaming | H37: Condomínio | J37: #DIV/0!
... C44: Cosméticos | H44: Doméstica/Diarista | J44: #DIV/0!
B45: Educação | C45: Livro | E45: =SUM(D45:D48) -> 0 | H45: Escola | J45: #DIV/0!
C46: Curso | H46: Estacionamento | J46: #DIV/0!
C47: Escola | H47: Faculdade | J47: #DIV/0!
C48: Faculdade | H48: Festa/evento | J48: #DIV/0!
B49: Lazer | C49: Restaurante | E49: =SUM(D49:D53) -> 0 | H49: Financiamento | J49: #DIV/0!
C50: Bar | H50: Gás | J50: #DIV/0!
C51: Festa/evento | H51: Internet | J51: #DIV/0!
C52: Cinema | H52: IPTU | J52: #DIV/0!
C53: Viagem | H53: IPVA | J53: #DIV/0!
B54: Saúde e bem-estar | C54: Convênio | E54: =SUM(D54:D56) -> 0 | H54: Livro | J54: #DIV/0!
C55: Seguros | H55: Outros | J55: #DIV/0!
C56: Academia | H56: Presente | J56: #DIV/0!
B57: Transporte | C57: Carro (Manutenção) | E57: =SUM(D57:D62) -> 0 | H57: Previdência | J57: #DIV/0!
C58: Combustível | H58: Reforma | J58: #DIV/0!
C59: Estacionamento | H59: Remédios | J59: #DIV/0!
...

Sheet Abril
D7: Valor
B8: Receitas | C8: Salário | F8: Investimento
C9: Horas extras | F9: =IF(OR(D16-E70<0,D16-E70<=D16*0.2),D16-E70,IF(OR(D16-E70<0,D16-E70>=D16*0.2),D16*0.2,0)) -> 0
C10: 13º salário
C11: Bonificação | F11: Caixa restante
C12: Férias | F12: =IF(D16-F9-E70<0,D16-E70,D16-F9-E70) -> 0
C13: Aluguel
C14: Proventos | F14: Percentual | H14: Investimento +
C15: Outros | F15: =IFERROR(F12/D16,"")
C16: Total | D16: =SUM(D8:D15) -> 0
B24: Categoria Macro | C24: Categoria Micro | D24: Valor de Gasto | E24: Subtotais | F24: Comentários | H24: Categoria Micro | I24: Soma de Valor de Gasto | J24: Percentual de Valor Gasto
B25: Moradia | C25: Aluguel | E25: =SUM(D25:D44) -> 0 | H25: Academia | J25: #DIV/0!
C26: Condomínio | H26: Aluguel | J26: #DIV/0!
C27: IPTU | H27: Animal de estimação | J27: #DIV/0!
C28: Conta de água | H28: Babá | J28: #DIV/0!
C29: Conta de luz | H29: Bar | J29: #DIV/0!
C30: Gás | H30: Bebida | J30: #DIV/0!
C31: Supermercado | H31: Calçado | J31: #DIV/0!
C32: Comida | H32: Carro (Manutenção) | J32: #DIV/0!
C33: Bebida | H33: Celular | J33: #DIV/0!
C34: Internet | H34: Cinema | J34: #DIV/0!
C35: Telefone | H35: Combustível | J35: #DIV/0!
C36: Celular | H36: Comida | J36: #DIV/0!
C37: Streaming | H37: Condomínio | J37: #DIV/0!
... C44: Cosméticos | H44: Doméstica/Diarista | J44: #DIV/0!
B45: Educação | C45: Livro | E45: =SUM(D45:D48) -> 0 | H45: Escola | J45: #DIV/0!
C46: Curso | H46: Estacionamento | J46: #DIV/0!
C47: Escola | H47: Faculdade | J47: #DIV/0!
C48: Faculdade | H48: Festa/evento | J48: #DIV/0!
B49: Lazer | C49: Restaurante | E49: =SUM(D49:D53) -> 0 | H49: Financiamento | J49: #DIV/0!
C50: Bar | H50: Gás | J50: #DIV/0!
C51: Festa/evento | H51: Internet | J51: #DIV/0!
C52: Cinema | H52: IPTU | J52: #DIV/0!
C53: Viagem | H53: IPVA | J53: #DIV/0!
B54: Saúde e bem-estar | C54: Convênio | E54: =SUM(D54:D56) -> 0 | H54: Livro | J54: #DIV/0!
C55: Seguros | H55: Outros | J55: #DIV/0!
C56: Academia | H56: Presente | J56: #DIV/0!
B57: Transporte | C57: Carro (Manutenção) | E57: =SUM(D57:D62) -> 0 | H57: Previdência | J57: #DIV/0!
C58: Combustível | H58: Reforma | J58: #DIV/0!
C59: Estacionamento | H59: Remédios | J59: #DIV/0!
...

Sheet Maio
D7: Valor
B8: Receitas | C8: Salário | F8: Investimento
C9: Horas extras | F9: =IF(OR(D16-E70<0,D16-E70<=D16*0.2),D16-E70,IF(OR(D16-E70<0,D16-E70>=D16*0.2),D16*0.2,0)) -> 0
C10: 13º salário
C11: Bonificação | F11: Caixa restante
C12: Férias | F12: =IF(D16-F9-E70<0,D16-E70,D16-F9-E70) -> 0
C13: Aluguel
C14: Proventos | F14: Percentual | H14: Investimento +
C15: Outros | F15: =IFERROR(F12/D16,"")
C16: Total | D16: =SUM(D8:D15) -> 0
B24: Categoria Macro | C24: Categoria Micro | D24: Valor de Gasto | E24: Subtotais | F24: Comentários | H24: Categoria Micro | I24: Soma de Valor de Gasto | J24: Percentual de Valor Gasto
B25: Moradia | C25: Aluguel | E25: =SUM(D25:D44) -> 0 | H25: Academia | J25: #DIV/0!
C26: Condomínio | H26: Aluguel | J26: #DIV/0!
C27: IPTU | H27: Animal de estimação | J27: #DIV/0!
C28: Conta de água | H28: Babá | J28: #DIV/0!
C29: Conta de luz | H29: Bar | J29: #DIV/0!
C30: Gás | H30: Bebida | J30: #DIV/0!
C31: Supermercado | H31: Calçado | J31: #DIV/0!
C32: Comida | H32: Carro (Manutenção) | J32: #DIV/0!
C33: Bebida | H33: Celular | J33: #DIV/0!
C34: Internet | H34: Cinema | J34: #DIV/0!
C35: Telefone | H35: Combustível | J35: #DIV/0!
C36: Celular | H36: Comida | J36: #DIV/0!
C37: Streaming | H37: Condomínio | J37: #DIV/0!
... C44: Cosméticos | H44: Doméstica/Diarista | J44: #DIV/0!
B45: Educação | C45: Livro | E45: =SUM(D45:D48) -> 0 | H45: Escola | J45: #DIV/0!
C46: Curso | H46: Estacionamento | J46: #DIV/0!
C47: Escola | H47: Faculdade | J47: #DIV/0!
C48: Faculdade | H48: Festa/evento | J48: #DIV/0!
B49: Lazer | C49: Restaurante | E49: =SUM(D49:D53) -> 0 | H49: Financiamento | J49: #DIV/0!
C50: Bar | H50: Gás | J50: #DIV/0!
C51: Festa/evento | H51: Internet | J51: #DIV/0!
C52: Cinema | H52: IPTU | J52: #DIV/0!
C53: Viagem | H53: IPVA | J53: #DIV/0!
B54: Saúde e bem-estar | C54: Convênio | E54: =SUM(D54:D56) -> 0 | H54: Livro | J54: #DIV/0!
C55: Seguros | H55: Outros | J55: #DIV/0!
C56: Academia | H56: Presente | J56: #DIV/0!
B57: Transporte | C57: Carro (Manutenção) | E57: =SUM(D57:D62) -> 0 | H57: Previdência | J57: #DIV/0!
C58: Combustível | H58: Reforma | J58: #DIV/0!
C59: Estacionamento | H59: Remédios | J59: #DIV/0!
...

Sheet Junho
D7: Valor
B8: Receitas | C8: Salário | F8: Investimento
C9: Horas extras | F9: =IF(OR(D16-E70<0,D16-E70<=D16*0.2),D16-E70,IF(OR(D16-E70<0,D16-E70>=D16*0.2),D16*0.2,0)) -> 0
C10: 13º salário
C11: Bonificação | F11: Caixa restante
C12: Férias | F12: =IF(D16-F9-E70<0,D16-E70,D16-F9-E70) -> 0
C13: Aluguel
C14: Proventos | F14: Percentual | H14: Investimento +
C15: Outros | F15: =IFERROR(F12/D16,"")
C16: Total | D16: =SUM(D8:D15) -> 0
B24: Categoria Macro | C24: Categoria Micro | D24: Valor de Gasto | E24: Subtotais | F24: Comentários | H24: Categoria Micro | I24: Soma de Valor de Gasto | J24: Percentual de Valor Gasto
B25: Moradia | C25: Aluguel | E25: =SUM(D25:D44) -> 0 | H25: Academia | J25: #DIV/0!
C26: Condomínio | H26: Aluguel | J26: #DIV/0!
C27: IPTU | H27: Animal de estimação | J27: #DIV/0!
C28: Conta de água | H28: Babá | J28: #DIV/0!
C29: Conta de luz | H29: Bar | J29: #DIV/0!
C30: Gás | H30: Bebida | J30: #DIV/0!
C31: Supermercado | H31: Calçado | J31: #DIV/0!
C32: Comida | H32: Carro (Manutenção) | J32: #DIV/0!
C33: Bebida | H33: Celular | J33: #DIV/0!
C34: Internet | H34: Cinema | J34: #DIV/0!
C35: Telefone | H35: Combustível | J35: #DIV/0!
C36: Celular | H36: Comida | J36: #DIV/0!
C37: Streaming | H37: Condomínio | J37: #DIV/0!
... C44: Cosméticos | H44: Doméstica/Diarista | J44: #DIV/0!
B45: Educação | C45: Livro | E45: =SUM(D45:D48) -> 0 | H45: Escola | J45: #DIV/0!
C46: Curso | H46: Estacionamento | J46: #DIV/0!
C47: Escola | H47: Faculdade | J47: #DIV/0!
C48: Faculdade | H48: Festa/evento | J48: #DIV/0!
B49: Lazer | C49: Restaurante | E49: =SUM(D49:D53) -> 0 | H49: Financiamento | J49: #DIV/0!
C50: Bar | H50: Gás | J50: #DIV/0!
C51: Festa/evento | H51: Internet | J51: #DIV/0!
C52: Cinema | H52: IPTU | J52: #DIV/0!
C53: Viagem | H53: IPVA | J53: #DIV/0!
B54: Saúde e bem-estar | C54: Convênio | E54: =SUM(D54:D56) -> 0 | H54: Livro | J54: #DIV/0!
C55: Seguros | H55: Outros | J55: #DIV/0!
C56: Academia | H56: Presente | J56: #DIV/0!
B57: Transporte | C57: Carro (Manutenção) | E57: =SUM(D57:D62) -> 0 | H57: Previdência | J57: #DIV/0!
C58: Combustível | H58: Reforma | J58: #DIV/0!
C59: Estacionamento | H59: Remédios | J59: #DIV/0!
...

Sheet Julho
D7: Valor
B8: Receitas | C8: Salário | F8: Investimento
C9: Horas extras | F9: =IF(OR(D16-E70<0,D16-E70<=D16*0.2),D16-E70,IF(OR(D16-E70<0,D16-E70>=D16*0.2),D16*0.2,0)) -> 0
C10: 13º salário
C11: Bonificação | F11: Caixa restante
C12: Férias | F12: =IF(D16-F9-E70<0,D16-E70,D16-F9-E70) -> 0
C13: Aluguel
C14: Proventos | F14: Percentual | H14: Investimento +
C15: Outros | F15: =IFERROR(F12/D16,"")
C16: Total | D16: =SUM(D8:D15) -> 0
B24: Categoria Macro | C24: Categoria Micro | D24: Valor de Gasto | E24: Subtotais | F24: Comentários | H24: Categoria Micro | I24: Soma de Valor de Gasto | J24: Percentual de Valor Gasto
B25: Moradia | C25: Aluguel | E25: =SUM(D25:D44) -> 0 | H25: Academia | J25: #DIV/0!
C26: Condomínio | H26: Aluguel | J26: #DIV/0!
C27: IPTU | H27: Animal de estimação | J27: #DIV/0!
C28: Conta de água | H28: Babá | J28: #DIV/0!
C29: Conta de luz | H29: Bar | J29: #DIV/0!
C30: Gás | H30: Bebida | J30: #DIV/0!
C31: Supermercado | H31: Calçado | J31: #DIV/0!
C32: Comida | H32: Carro (Manutenção) | J32: #DIV/0!
C33: Bebida | H33: Celular | J33: #DIV/0!
C34: Internet | H34: Cinema | J34: #DIV/0!
C35: Telefone | H35: Combustível | J35: #DIV/0!
C36: Celular | H36: Comida | J36: #DIV/0!
C37: Streaming | H37: Condomínio | J37: #DIV/0!
... C44: Cosméticos | H44: Doméstica/Diarista | J44: #DIV/0!
B45: Educação | C45: Livro | E45: =SUM(D45:D48) -> 0 | H45: Escola | J45: #DIV/0!
C46: Curso | H46: Estacionamento | J46: #DIV/0!
C47: Escola | H47: Faculdade | J47: #DIV/0!
C48: Faculdade | H48: Festa/evento | J48: #DIV/0!
B49: Lazer | C49: Restaurante | E49: =SUM(D49:D53) -> 0 | H49: Financiamento | J49: #DIV/0!
C50: Bar | H50: Gás | J50: #DIV/0!
C51: Festa/evento | H51: Internet | J51: #DIV/0!
C52: Cinema | H52: IPTU | J52: #DIV/0!
C53: Viagem | H53: IPVA | J53: #DIV/0!
B54: Saúde e bem-estar | C54: Convênio | E54: =SUM(D54:D56) -> 0 | H54: Livro | J54: #DIV/0!
C55: Seguros | H55: Outros | J55: #DIV/0!
C56: Academia | H56: Presente | J56: #DIV/0!
B57: Transporte | C57: Carro (Manutenção) | E57: =SUM(D57:D62) -> 0 | H57: Previdência | J57: #DIV/0!
C58: Combustível | H58: Reforma | J58: #DIV/0!
C59: Estacionamento | H59: Remédios | J59: #DIV/0!
...

Sheet Agosto
D7: Valor
B8: Receitas | C8: Salário | F8: Investimento
C9: Horas extras | F9: =IF(OR(D16-E70<0,D16-E70<=D16*0.2),D16-E70,IF(OR(D16-E70<0,D16-E70>=D16*0.2),D16*0.2,0)) -> 0
C10: 13º salário
C11: Bonificação | F11: Caixa restante
C12: Férias | F12: =IF(D16-F9-E70<0,D16-E70,D16-F9-E70) -> 0
C13: Aluguel
C14: Proventos | F14: Percentual | H14: Investimento +
C15: Outros | F15: =IFERROR(F12/D16,"")
C16: Total | D16: =SUM(D8:D15) -> 0
B24: Categoria Macro | C24: Categoria Micro | D24: Valor de Gasto | E24: Subtotais | F24: Comentários | H24: Categoria Micro | I24: Soma de Valor de Gasto | J24: Percentual de Valor Gasto
B25: Moradia | C25: Aluguel | E25: =SUM(D25:D44) -> 0 | H25: Academia | J25: #DIV/0!
C26: Condomínio | H26: Aluguel | J26: #DIV/0!
C27: IPTU | H27: Animal de estimação | J27: #DIV/0!
C28: Conta de água | H28: Babá | J28: #DIV/0!
C29: Conta de luz | H29: Bar | J29: #DIV/0!
C30: Gás | H30: Bebida | J30: #DIV/0!
C31: Supermercado | H31: Calçado | J31: #DIV/0!
C32: Comida | H32: Carro (Manutenção) | J32: #DIV/0!
C33: Bebida | H33: Celular | J33: #DIV/0!
C34: Internet | H34: Cinema | J34: #DIV/0!
C35: Telefone | H35: Combustível | J35: #DIV/0!
C36: Celular | H36: Comida | J36: #DIV/0!
C37: Streaming | H37: Condomínio | J37: #DIV/0!
... C44: Cosméticos | H44: Doméstica/Diarista | J44: #DIV/0!
B45: Educação | C45: Livro | E45: =SUM(D45:D48) -> 0 | H45: Escola | J45: #DIV/0!
C46: Curso | H46: Estacionamento | J46: #DIV/0!
C47: Escola | H47: Faculdade | J47: #DIV/0!
C48: Faculdade | H48: Festa/evento | J48: #DIV/0!
B49: Lazer | C49: Restaurante | E49: =SUM(D49:D53) -> 0 | H49: Financiamento | J49: #DIV/0!
C50: Bar | H50: Gás | J50: #DIV/0!
C51: Festa/evento | H51: Internet | J51: #DIV/0!
C52: Cinema | H52: IPTU | J52: #DIV/0!
C53: Viagem | H53: IPVA | J53: #DIV/0!
B54: Saúde e bem-estar | C54: Convênio | E54: =SUM(D54:D56) -> 0 | H54: Livro | J54: #DIV/0!
C55: Seguros | H55: Outros | J55: #DIV/0!
C56: Academia | H56: Presente | J56: #DIV/0!
B57: Transporte | C57: Carro (Manutenção) | E57: =SUM(D57:D62) -> 0 | H57: Previdência | J57: #DIV/0!
C58: Combustível | H58: Reforma | J58: #DIV/0!
C59: Estacionamento | H59: Remédios | J59: #DIV/0!
...

Sheet Setembro
D7: Valor
B8: Receitas | C8: Salário | F8: Investimento
C9: Horas extras | F9: =IF(OR(D16-E70<0,D16-E70<=D16*0.2),D16-E70,IF(OR(D16-E70<0,D16-E70>=D16*0.2),D16*0.2,0)) -> 0
C10: 13º salário
C11: Bonificação | F11: Caixa restante
C12: Férias | F12: =IF(D16-F9-E70<0,D16-E70,D16-F9-E70) -> 0
C13: Aluguel
C14: Proventos | F14: Percentual | H14: Investimento +
C15: Outros | F15: =IFERROR(F12/D16,"")
C16: Total | D16: =SUM(D8:D15) -> 0
B24: Categoria Macro | C24: Categoria Micro | D24: Valor de Gasto | E24: Subtotais | F24: Comentários | H24: Categoria Micro | I24: Soma de Valor de Gasto | J24: Percentual de Valor Gasto
B25: Moradia | C25: Aluguel | E25: =SUM(D25:D44) -> 0 | H25: Academia | J25: #DIV/0!
C26: Condomínio | H26: Aluguel | J26: #DIV/0!
C27: IPTU | H27: Animal de estimação | J27: #DIV/0!
C28: Conta de água | H28: Babá | J28: #DIV/0!
C29: Conta de luz | H29: Bar | J29: #DIV/0!
C30: Gás | H30: Bebida | J30: #DIV/0!
C31: Supermercado | H31: Calçado | J31: #DIV/0!
C32: Comida | H32: Carro (Manutenção) | J32: #DIV/0!
C33: Bebida | H33: Celular | J33: #DIV/0!
C34: Internet | H34: Cinema | J34: #DIV/0!
C35: Telefone | H35: Combustível | J35: #DIV/0!
C36: Celular | H36: Comida | J36: #DIV/0!
C37: Streaming | H37: Condomínio | J37: #DIV/0!
... C44: Cosméticos | H44: Doméstica/Diarista | J44: #DIV/0!
B45: Educação | C45: Livro | E45: =SUM(D45:D48) -> 0 | H45: Escola | J45: #DIV/0!
C46: Curso | H46: Estacionamento | J46: #DIV/0!
C47: Escola | H47: Faculdade | J47: #DIV/0!
C48: Faculdade | H48: Festa/evento | J48: #DIV/0!
B49: Lazer | C49: Restaurante | E49: =SUM(D49:D53) -> 0 | H49: Financiamento | J49: #DIV/0!
C50: Bar | H50: Gás | J50: #DIV/0!
C51: Festa/evento | H51: Internet | J51: #DIV/0!
C52: Cinema | H52: IPTU | J52: #DIV/0!
C53: Viagem | H53: IPVA | J53: #DIV/0!
B54: Saúde e bem-estar | C54: Convênio | E54: =SUM(D54:D56) -> 0 | H54: Livro | J54: #DIV/0!
C55: Seguros | H55: Outros | J55: #DIV/0!
C56: Academia | H56: Presente | J56: #DIV/0!
B57: Transporte | C57: Carro (Manutenção) | E57: =SUM(D57:D62) -> 0 | H57: Previdência | J57: #DIV/0!
C58: Combustível | H58: Reforma | J58: #DIV/0!
C59: Estacionamento | H59: Remédios | J59: #DIV/0!
...

Sheet Outubro
D7: Valor
B8: Receitas | C8: Salário | F8: Investimento
C9: Horas extras | F9: =IF(OR(D16-E70<0,D16-E70<=D16*0.2),D16-E70,IF(OR(D16-E70<0,D16-E70>=D16*0.2),D16*0.2,0)) -> 0
C10: 13º salário
C11: Bonificação | F11: Caixa restante
C12: Férias | F12: =IF(D16-F9-E70<0,D16-E70,D16-F9-E70) -> 0
C13: Aluguel
C14: Proventos | F14: Percentual | H14: Investimento +
C15: Outros | F15: =IFERROR(F12/D16,"")
C16: Total | D16: =SUM(D8:D15) -> 0
B24: Categoria Macro | C24: Categoria Micro | D24: Valor de Gasto | E24: Subtotais | F24: Comentários | H24: Categoria Micro | I24: Soma de Valor de Gasto | J24: Percentual de Valor Gasto
B25: Moradia | C25: Aluguel | E25: =SUM(D25:D44) -> 0 | H25: Academia | J25: #DIV/0!
C26: Condomínio | H26: Aluguel | J26: #DIV/0!
C27: IPTU | H27: Animal de estimação | J27: #DIV/0!
C28: Conta de água | H28: Babá | J28: #DIV/0!
C29: Conta de luz | H29: Bar | J29: #DIV/0!
C30: Gás | H30: Bebida | J30: #DIV/0!
C31: Supermercado | H31: Calçado | J31: #DIV/0!
C32: Comida | H32: Carro (Manutenção) | J32: #DIV/0!
C33: Bebida | H33: Celular | J33: #DIV/0!
C34: Internet | H34: Cinema | J34: #DIV/0!
C35: Telefone | H35: Combustível | J35: #DIV/0!
C36: Celular | H36: Comida | J36: #DIV/0!
C37: Streaming | H37: Condomínio | J37: #DIV/0!
... C44: Cosméticos | H44: Doméstica/Diarista | J44: #DIV/0!
B45: Educação | C45: Livro | E45: =SUM(D45:D48) -> 0 | H45: Escola | J45: #DIV/0!
C46: Curso | H46: Estacionamento | J46: #DIV/0!
C47: Escola | H47: Faculdade | J47: #DIV/0!
C48: Faculdade | H48: Festa/evento | J48: #DIV/0!
B49: Lazer | C49: Restaurante | E49: =SUM(D49:D53) -> 0 | H49: Financiamento | J49: #DIV/0!
C50: Bar | H50: Gás | J50: #DIV/0!
C51: Festa/evento | H51: Internet | J51: #DIV/0!
C52: Cinema | H52: IPTU | J52: #DIV/0!
C53: Viagem | H53: IPVA | J53: #DIV/0!
B54: Saúde e bem-estar | C54: Convênio | E54: =SUM(D54:D56) -> 0 | H54: Livro | J54: #DIV/0!
C55: Seguros | H55: Outros | J55: #DIV/0!
C56: Academia | H56: Presente | J56: #DIV/0!
B57: Transporte | C57: Carro (Manutenção) | E57: =SUM(D57:D62) -> 0 | H57: Previdência | J57: #DIV/0!
C58: Combustível | H58: Reforma | J58: #DIV/0!
C59: Estacionamento | H59: Remédios | J59: #DIV/0!
...

Sheet Novembro
D7: Valor
B8: Receitas | C8: Salário | F8: Investimento
C9: Horas extras | F9: =IF(OR(D16-E70<0,D16-E70<=D16*0.2),D16-E70,IF(OR(D16-E70<0,D16-E70>=D16*0.2),D16*0.2,0)) -> 0
C10: 13º salário
C11: Bonificação | F11: Caixa restante
C12: Férias | F12: =IF(D16-F9-E70<0,D16-E70,D16-F9-E70) -> 0
C13: Aluguel
C14: Proventos | F14: Percentual | H14: Investimento +
C15: Outros | F15: =IFERROR(F12/D16,"")
C16: Total | D16: =SUM(D8:D15) -> 0
B24: Categoria Macro | C24: Categoria Micro | D24: Valor de Gasto | E24: Subtotais | F24: Comentários | H24: Categoria Micro | I24: Soma de Valor de Gasto | J24: Percentual de Valor Gasto
B25: Moradia | C25: Aluguel | E25: =SUM(D25:D44) -> 0 | H25: Academia | J25: #DIV/0!
C26: Condomínio | H26: Aluguel | J26: #DIV/0!
C27: IPTU | H27: Animal de estimação | J27: #DIV/0!
C28: Conta de água | H28: Babá | J28: #DIV/0!
C29: Conta de luz | H29: Bar | J29: #DIV/0!
C30: Gás | H30: Bebida | J30: #DIV/0!
C31: Supermercado | H31: Calçado | J31: #DIV/0!
C32: Comida | H32: Carro (Manutenção) | J32: #DIV/0!
C33: Bebida | H33: Celular | J33: #DIV/0!
C34: Internet | H34: Cinema | J34: #DIV/0!
C35: Telefone | H35: Combustível | J35: #DIV/0!
C36: Celular | H36: Comida | J36: #DIV/0!
C37: Streaming | H37: Condomínio | J37: #DIV/0!
... C44: Cosméticos | H44: Doméstica/Diarista | J44: #DIV/0!
B45: Educação | C45: Livro | E45: =SUM(D45:D48) -> 0 | H45: Escola | J45: #DIV/0!
C46: Curso | H46: Estacionamento | J46: #DIV/0!
C47: Escola | H47: Faculdade | J47: #DIV/0!
C48: Faculdade | H48: Festa/evento | J48: #DIV/0!
B49: Lazer | C49: Restaurante | E49: =SUM(D49:D53) -> 0 | H49: Financiamento | J49: #DIV/0!
C50: Bar | H50: Gás | J50: #DIV/0!
C51: Festa/evento | H51: Internet | J51: #DIV/0!
C52: Cinema | H52: IPTU | J52: #DIV/0!
C53: Viagem | H53: IPVA | J53: #DIV/0!
B54: Saúde e bem-estar | C54: Convênio | E54: =SUM(D54:D56) -> 0 | H54: Livro | J54: #DIV/0!
C55: Seguros | H55: Outros | J55: #DIV/0!
C56: Academia | H56: Presente | J56: #DIV/0!
B57: Transporte | C57: Carro (Manutenção) | E57: =SUM(D57:D62) -> 0 | H57: Previdência | J57: #DIV/0!
C58: Combustível | H58: Reforma | J58: #DIV/0!
C59: Estacionamento | H59: Remédios | J59: #DIV/0!
...

Sheet Dezembro
D7: Valor
B8: Receitas | C8: Salário | F8: Investimento
C9: Horas extras | F9: =IF(OR(D16-E70<0,D16-E70<=D16*0.2),D16-E70,IF(OR(D16-E70<0,D16-E70>=D16*0.2),D16*0.2,0)) -> 0
C10: 13º salário
C11: Bonificação | F11: Caixa restante
C12: Férias | F12: =IF(D16-F9-E70<0,D16-E70,D16-F9-E70) -> 0
C13: Aluguel
C14: Proventos | F14: Percentual | H14: Investimento +
C15: Outros | F15: =IFERROR(F12/D16,"")
C16: Total | D16: =SUM(D8:D15) -> 0
B24: Categoria Macro | C24: Categoria Micro | D24: Valor de Gasto | E24: Subtotais | F24: Comentários | H24: Categoria Micro | I24: Soma de Valor de Gasto | J24: Percentual de Valor Gasto
B25: Moradia | C25: Aluguel | E25: =SUM(D25:D44) -> 0 | H25: Academia | J25: #DIV/0!
C26: Condomínio | H26: Aluguel | J26: #DIV/0!
C27: IPTU | H27: Animal de estimação | J27: #DIV/0!
C28: Conta de água | H28: Babá | J28: #DIV/0!
C29: Conta de luz | H29: Bar | J29: #DIV/0!
C30: Gás | H30: Bebida | J30: #DIV/0!
C31: Supermercado | H31: Calçado | J31: #DIV/0!
C32: Comida | H32: Carro (Manutenção) | J32: #DIV/0!
C33: Bebida | H33: Celular | J33: #DIV/0!
C34: Internet | H34: Cinema | J34: #DIV/0!
C35: Telefone | H35: Combustível | J35: #DIV/0!
C36: Celular | H36: Comida | J36: #DIV/0!
C37: Streaming | H37: Condomínio | J37: #DIV/0!
... C44: Cosméticos | H44: Doméstica/Diarista | J44: #DIV/0!
B45: Educação | C45: Livro | E45: =SUM(D45:D48) -> 0 | H45: Escola | J45: #DIV/0!
C46: Curso | H46: Estacionamento | J46: #DIV/0!
C47: Escola | H47: Faculdade | J47: #DIV/0!
C48: Faculdade | H48: Festa/evento | J48: #DIV/0!
B49: Lazer | C49: Restaurante | E49: =SUM(D49:D53) -> 0 | H49: Financiamento | J49: #DIV/0!
C50: Bar | H50: Gás | J50: #DIV/0!
C51: Festa/evento | H51: Internet | J51: #DIV/0!
C52: Cinema | H52: IPTU | J52: #DIV/0!
C53: Viagem | H53: IPVA | J53: #DIV/0!
B54: Saúde e bem-estar | C54: Convênio | E54: =SUM(D54:D56) -> 0 | H54: Livro | J54: #DIV/0!
C55: Seguros | H55: Outros | J55: #DIV/0!
C56: Academia | H56: Presente | J56: #DIV/0!
B57: Transporte | C57: Carro (Manutenção) | E57: =SUM(D57:D62) -> 0 | H57: Previdência | J57: #DIV/0!
C58: Combustível | H58: Reforma | J58: #DIV/0!
C59: Estacionamento | H59: Remédios | J59: #DIV/0!
...

Sheet Resumo
B2: FECHAMENTO GERAL | C2: Meses | D2: Ganho | E2: Investimento | F2: Gasto | G2: Caixa | H2: % Caixa | I2: % Investimento | Z2: Acima 70% | AB2: Otimo | AC2: 1
Z3: Entre 60 e 70% | AB3: Bom | AC3: 0.7
C4: JAN | D4: =Janeiro!$D$16 -> 0 | E4: =Janeiro!$F$9+Janeiro!$H$15 -> 0 | F4: =Janeiro!$E$70 -> 0 | G4: =D4-E4-F4 -> 0 | H4: =IFERROR(G4/D4,0) -> 0 | I4: =IFERROR(E4/D4,0) -> 0 | L4: >= 60% | M4: Excelente | O4: 0.6 | Z4: Entre 50 e 60% | AB4: Regular | AC4: 0.6
C5: FEV | D5: =Fevereiro!$D$16 -> 0 | E5: =Fevereiro!$F$9+Fevereiro!$H$15 -> 0 | F5: =Fevereiro!$E$70 -> 0 | G5: =D5-E5-F5 -> 0 | H5: =IFERROR(G5/D5,0) -> 0 | I5: =IFERROR(E5/D5,0) -> 0 | L5: 60% < X <= 40% | M5: Ótimo | O5: 0.4 | Z5: Abaixo de 50% | AB5: Ruim | AC5: 0.5
C6: MAR | D6: =Março!$D$16 -> 0 | E6: =Março!$F$9+Março!$H$15 -> 0 | F6: =Março!$E$70 -> 0 | G6: =D6-E6-F6 -> 0 | H6: =IFERROR(G6/D6,0) -> 0 | I6: =IFERROR(E6/D6,0) -> 0 | L6: 40% < X <= 20% | M6: Bom | O6: 0.2 | AC6: 0
C7: ABR | D7: =Abril!$D$16 -> 0 | E7: =Abril!$F$9+Abril!$H$15 -> 0 | F7: =Abril!$E$70 -> 0 | G7: =D7-E7-F7 -> 0 | H7: =IFERROR(G7/D7,0) -> 0 | I7: =IFERROR(E7/D7,0) -> 0 | L7: 20% < X <= 5% | M7: Regular | O7: 0.05
C8: MAI | D8: =Maio!$D$16 -> 0 | E8: =Maio!$F$9+Maio!$H$15 -> 0 | F8: =Maio!$E$70 -> 0 | G8: =D8-E8-F8 -> 0 | H8: =IFERROR(G8/D8,0) -> 0 | I8: =IFERROR(E8/D8,0) -> 0 | L8: 5% < X <= 0% | M8: Ruim | O8: 0
C9: JUN | D9: =Junho!$D$16 -> 0 | E9: =Junho!$F$9+Junho!$H$15 -> 0 | F9: =Junho!$E$70 -> 0 | G9: =D9-E9-F9 -> 0 | H9: =IFERROR(G9/D9,0) -> 0 | I9: =IFERROR(E9/D9,0) -> 0 | L9: <= 0% | M9: Péssimo
C10: JUL | D10: =Julho!$D$16 -> 0 | E10: =Julho!$F$9+Julho!$H$15 -> 0 | F10: =Julho!$E$70 -> 0 | G10: =D10-E10-F10 -> 0 | H10: =IFERROR(G10/D10,0) -> 0 | I10: =IFERROR(E10/D10,0) -> 0
C11: AGO | D11: =Agosto!$D$16 -> 0 | E11: =Agosto!$F$9+Agosto!$H$15 -> 0 | F11: =Agosto!$E$70 -> 0 | G11: =D11-E11-F11 -> 0 | H11: =IFERROR(G11/D11,0) -> 0 | I11: =IFERROR(E11/D11,0) -> 0
C12: SET | D12: =Setembro!$D$16 -> 0 | E12: =Setembro!$F$9+Setembro!$H$15 -> 0 | F12: =Setembro!$E$70 -> 0 | G12: =D12-E12-F12 -> 0 | H12: =IFERROR(G12/D12,0) -> 0 | I12: =IFERROR(E12/D12,0) -> 0
C13: OUT | D13: =Outubro!$D$16 -> 0 | E13: =Outubro!$F$9+Outubro!$H$15 -> 0 | F13: =Outubro!$E$70 -> 0 | G13: =D13-E13-F13 -> 0 | H13: =IFERROR(G13/D13,0) -> 0 | I13: =IFERROR(E13/D13,0) -> 0
C14: NOV | D14: =Novembro!$D$16 -> 0 | E14: =Novembro!$F$9+Novembro!$H$15 -> 0 | F14: =Novembro!$E$70 -> 0 | G14: =D14-E14-F14 -> 0 | H14: =IFERROR(G14/D14,0) -> 0 | I14: =IFERROR(E14/D14,0) -> 0
C15: DEZ | D15: =Dezembro!$D$16 -> 0 | E15: =Dezembro!$F$9+Dezembro!$H$15 -> 0 | F15: =Dezembro!$E$70 -> 0 | G15: =D15-E15-F15 -> 0 | H15: =IFERROR(G15/D15,0) -> 0 | I15: =IFERROR(E15/D15,0) -> 0
C16: Total | D16: =SUM(D4:D15) -> 0 | E16: =SUM(E4:E15) -> 0 | F16: =SUM(F4:F15) -> 0 | G16: =SUM(G4:G15) -> 0 | H16: =IFERROR(G16/D16,0) -> 0 | I16: =IFERROR(E16/D16,0) -> 0
C18: Média | D18: =AVERAGE(D4:D15) -> 0 | E18: =AVERAGE(E4:E15) -> 0 | F18: =AVERAGE(F4:F15) -> 0 | G18: =AVERAGE(G4:G15) -> 0 | H18: =IFERROR(G18/D18,0) -> 0 | I18: =IFERROR(E18/D18,0) -> 0
